BEGIN:VCALENDAR
VERSION:2.0
PRODID:-//The Connection Church - ECPv6.15.20//NONSGML v1.0//EN
CALSCALE:GREGORIAN
METHOD:PUBLISH
X-WR-CALNAME:The Connection Church
X-ORIGINAL-URL:https://theconnectiontc.com
X-WR-CALDESC:Events for The Connection Church
REFRESH-INTERVAL;VALUE=DURATION:PT1H
X-Robots-Tag:noindex
X-PUBLISHED-TTL:PT1H
BEGIN:VTIMEZONE
TZID:America/Chicago
BEGIN:DAYLIGHT
TZOFFSETFROM:-0600
TZOFFSETTO:-0500
TZNAME:CDT
DTSTART:20180311T080000
END:DAYLIGHT
BEGIN:STANDARD
TZOFFSETFROM:-0500
TZOFFSETTO:-0600
TZNAME:CST
DTSTART:20181104T070000
END:STANDARD
BEGIN:DAYLIGHT
TZOFFSETFROM:-0600
TZOFFSETTO:-0500
TZNAME:CDT
DTSTART:20190310T080000
END:DAYLIGHT
BEGIN:STANDARD
TZOFFSETFROM:-0500
TZOFFSETTO:-0600
TZNAME:CST
DTSTART:20191103T070000
END:STANDARD
BEGIN:DAYLIGHT
TZOFFSETFROM:-0600
TZOFFSETTO:-0500
TZNAME:CDT
DTSTART:20200308T080000
END:DAYLIGHT
BEGIN:STANDARD
TZOFFSETFROM:-0500
TZOFFSETTO:-0600
TZNAME:CST
DTSTART:20201101T070000
END:STANDARD
END:VTIMEZONE
BEGIN:VTIMEZONE
TZID:UTC
BEGIN:STANDARD
TZOFFSETFROM:+0000
TZOFFSETTO:+0000
TZNAME:UTC
DTSTART:20180101T000000
END:STANDARD
END:VTIMEZONE
BEGIN:VEVENT
DTSTART;TZID=America/Chicago:20190704T000000
DTEND;TZID=America/Chicago:20190704T000000
DTSTAMP:20260424T105407
CREATED:20190620T182859Z
LAST-MODIFIED:20190621T223309Z
UID:522-1562198400-1562198400@theconnectiontc.com
SUMMARY:Connection 4th of July Event (Happy Independence day!)
DESCRIPTION:The Connection Church will be having a 4th of July event. We will be celebrating our Independence day with some food and fellowship.  Please keep checking in for event details.
URL:https://theconnectiontc.com/event/connection-4th-of-july-event-happy-independence-day/
LOCATION:TX
END:VEVENT
BEGIN:VEVENT
DTSTART;TZID=UTC:20190616T101500
DTEND;TZID=UTC:20190616T120000
DTSTAMP:20260424T105407
CREATED:20190226T084437Z
LAST-MODIFIED:20190606T161029Z
UID:206-1560680100-1560686400@theconnectiontc.com
SUMMARY:Fathers Day Services: Every Sunday @ 10:15am
DESCRIPTION:Come Join us as we Praise\, Worship\, and study the Word of God. You will enjoy the family atmosphere\, and friendly members of the Connection Church. Come celebrate our Dads in an amazing service. We will also honor our Heavenly Father and all He has done for all of us.
URL:https://theconnectiontc.com/event/church-services-every-sunday-1015am-3/
LOCATION:The Connection Texas city\, 9300 Emmett F Lowry Expry Suite 222\, Texas City\, TX\, 77591\, United States
END:VEVENT
BEGIN:VEVENT
DTSTART;TZID=UTC:20190512T101500
DTEND;TZID=UTC:20190512T120000
DTSTAMP:20260424T105407
CREATED:20190405T011156Z
LAST-MODIFIED:20190507T223255Z
UID:360-1557656100-1557662400@theconnectiontc.com
SUMMARY:Mothers Day Church Service: Sunday @1015am
DESCRIPTION:Come Join us as we Praise\, Worship\, and study the Word of God. You will enjoy the family atmosphere\, and friendly members of the Connection Church. We will be celebrating our mothers in this special day. Thank you moms for being so great!
URL:https://theconnectiontc.com/event/church-service-every-sunday-1015am/
LOCATION:TX
END:VEVENT
END:VCALENDAR